BEGIN:VCALENDAR
VERSION:2.0
PRODID:-//Movimiento Apostólico Getsemaní - ECPv6.0.11//NONSGML v1.0//EN
CALSCALE:GREGORIAN
METHOD:PUBLISH
X-ORIGINAL-URL:https://movimientoapostolicogetsemani.com
X-WR-CALDESC:Eventos para Movimiento Apostólico Getsemaní
REFRESH-INTERVAL;VALUE=DURATION:PT1H
X-Robots-Tag:noindex
X-PUBLISHED-TTL:PT1H
BEGIN:VTIMEZONE
TZID:Europe/Madrid
BEGIN:DAYLIGHT
TZOFFSETFROM:+0100
TZOFFSETTO:+0200
TZNAME:CEST
DTSTART:20190331T010000
END:DAYLIGHT
BEGIN:STANDARD
TZOFFSETFROM:+0200
TZOFFSETTO:+0100
TZNAME:CET
DTSTART:20191027T010000
END:STANDARD
END:VTIMEZONE
BEGIN:VEVENT
DTSTART;TZID=Europe/Madrid:20191227T080000
DTEND;TZID=Europe/Madrid:20191229T170000
DTSTAMP:20260423T074522
CREATED:20191110T103344Z
LAST-MODIFIED:20191110T103344Z
UID:13592-1577433600-1577638800@movimientoapostolicogetsemani.com
SUMMARY:Convivencia para jóvenes
DESCRIPTION:Convivencia para jóvenes\, lugar por determinar.
URL:https://movimientoapostolicogetsemani.com/evento/convivencia-para-jovenes/
CATEGORIES:Convivencias
END:VEVENT
END:VCALENDAR