BEGIN:VCALENDAR
VERSION:2.0
PRODID:-//Movimiento Apostólico Getsemaní - ECPv6.0.11//NONSGML v1.0//EN
CALSCALE:GREGORIAN
METHOD:PUBLISH
X-WR-CALNAME:Movimiento Apostólico Getsemaní
X-ORIGINAL-URL:https://movimientoapostolicogetsemani.com
X-WR-CALDESC:Eventos para Movimiento Apostólico Getsemaní
REFRESH-INTERVAL;VALUE=DURATION:PT1H
X-Robots-Tag:noindex
X-PUBLISHED-TTL:PT1H
BEGIN:VTIMEZONE
TZID:Europe/Madrid
BEGIN:DAYLIGHT
TZOFFSETFROM:+0100
TZOFFSETTO:+0200
TZNAME:CEST
DTSTART:20190331T010000
END:DAYLIGHT
BEGIN:STANDARD
TZOFFSETFROM:+0200
TZOFFSETTO:+0100
TZNAME:CET
DTSTART:20191027T010000
END:STANDARD
END:VTIMEZONE
BEGIN:VEVENT
DTSTART;TZID=Europe/Madrid:20190118T220000
DTEND;TZID=Europe/Madrid:20190119T180000
DTSTAMP:20260426T062817
CREATED:20181122T175749Z
LAST-MODIFIED:20181122T175749Z
UID:13368-1547848800-1547920800@movimientoapostolicogetsemani.com
SUMMARY:Retiro Getsemaní
DESCRIPTION:Retiro Getsemaní
URL:https://movimientoapostolicogetsemani.com/evento/retiro-getsemani/
CATEGORIES:Retiro
ATTACH;FMTTYPE=image/jpeg:https://movimientoapostolicogetsemani.com/wp-content/uploads/2018/05/oracion.jpg
END:VEVENT
END:VCALENDAR