BEGIN:VCALENDAR
VERSION:2.0
PRODID:-//Movimiento Apostólico Getsemaní - ECPv6.0.11//NONSGML v1.0//EN
CALSCALE:GREGORIAN
METHOD:PUBLISH
X-ORIGINAL-URL:https://movimientoapostolicogetsemani.com
X-WR-CALDESC:Eventos para Movimiento Apostólico Getsemaní
REFRESH-INTERVAL;VALUE=DURATION:PT1H
X-Robots-Tag:noindex
X-PUBLISHED-TTL:PT1H
BEGIN:VTIMEZONE
TZID:Europe/Madrid
BEGIN:DAYLIGHT
TZOFFSETFROM:+0100
TZOFFSETTO:+0200
TZNAME:CEST
DTSTART:20190331T010000
END:DAYLIGHT
BEGIN:STANDARD
TZOFFSETFROM:+0200
TZOFFSETTO:+0100
TZNAME:CET
DTSTART:20191027T010000
END:STANDARD
END:VTIMEZONE
BEGIN:VEVENT
DTSTART;TZID=Europe/Madrid:20190621T220000
DTEND;TZID=Europe/Madrid:20190622T220000
DTSTAMP:20260426T000843
CREATED:20190505T065620Z
LAST-MODIFIED:20190505T065620Z
UID:13489-1561154400-1561240800@movimientoapostolicogetsemani.com
SUMMARY:Retiro
DESCRIPTION:Retiro de Getsemaní Fin de Curso. Renovación de Compromisos
URL:https://movimientoapostolicogetsemani.com/evento/retiro-3/
CATEGORIES:Retiro
ATTACH;FMTTYPE=image/jpeg:https://movimientoapostolicogetsemani.com/wp-content/uploads/2018/05/oracion.jpg
END:VEVENT
END:VCALENDAR