BEGIN:VCALENDAR
VERSION:2.0
PRODID:-//Movimiento Apostólico Getsemaní - ECPv6.0.11//NONSGML v1.0//EN
CALSCALE:GREGORIAN
METHOD:PUBLISH
X-WR-CALNAME:Movimiento Apostólico Getsemaní
X-ORIGINAL-URL:https://movimientoapostolicogetsemani.com
X-WR-CALDESC:Eventos para Movimiento Apostólico Getsemaní
REFRESH-INTERVAL;VALUE=DURATION:PT1H
X-Robots-Tag:noindex
X-PUBLISHED-TTL:PT1H
BEGIN:VTIMEZONE
TZID:Europe/Madrid
BEGIN:DAYLIGHT
TZOFFSETFROM:+0100
TZOFFSETTO:+0200
TZNAME:CEST
DTSTART:20180325T010000
END:DAYLIGHT
BEGIN:STANDARD
TZOFFSETFROM:+0200
TZOFFSETTO:+0100
TZNAME:CET
DTSTART:20181028T010000
END:STANDARD
END:VTIMEZONE
BEGIN:VEVENT
DTSTART;TZID=Europe/Madrid:20180302T193000
DTEND;TZID=Europe/Madrid:20180302T213000
DTSTAMP:20260419T190932
CREATED:20170919T165141Z
LAST-MODIFIED:20170919T165141Z
UID:228-1520019000-1520026200@movimientoapostolicogetsemani.com
SUMMARY:Celebración del Primer Viernes de mes
DESCRIPTION:Celebración del Primer Viernes de mes en el Santuario Diocesano de los Sagrados Corazones.
URL:https://movimientoapostolicogetsemani.com/evento/celebracion-del-primer-viernes-mes-5/
LOCATION:Santuario Diocesano de los Sagrados Corazones.\, Plaza Padre Juan de Mariana\, 1\, Toledo\, Toledo\, 45002\, España
END:VEVENT
BEGIN:VEVENT
DTSTART;TZID=Europe/Madrid:20180309T193000
DTEND;TZID=Europe/Madrid:20180310T170000
DTSTAMP:20260419T190932
CREATED:20170919T165756Z
LAST-MODIFIED:20170919T165756Z
UID:230-1520623800-1520701200@movimientoapostolicogetsemani.com
SUMMARY:Retiro de Getsemaní
DESCRIPTION:Retiro de Getsemaní de Cuaresma. (Oropesa)
URL:https://movimientoapostolicogetsemani.com/evento/retiro-de-getsemani-6/
LOCATION:Oropesa\,  Calle de las Monjas\, 13\, Oropesa\, Toledo\, 45560\, España
CATEGORIES:Retiro
ATTACH;FMTTYPE=image/jpeg:https://movimientoapostolicogetsemani.com/wp-content/uploads/2017/01/cropped-logo-getsemani2.jpg
END:VEVENT
BEGIN:VEVENT
DTSTART;TZID=Europe/Madrid:20180323T080000
DTEND;TZID=Europe/Madrid:20180323T170000
DTSTAMP:20260419T190932
CREATED:20170919T165846Z
LAST-MODIFIED:20170919T165846Z
UID:232-1521792000-1521824400@movimientoapostolicogetsemani.com
SUMMARY:Tradicional Marcha reparadora de Navalcán a Oropesa
DESCRIPTION:Tradicional Marcha reparadora de Navalcán a Oropesa\, en Viernes de Dolores.
URL:https://movimientoapostolicogetsemani.com/evento/tradicional-marcha-reparadora-navalcan-oropesa/
END:VEVENT
BEGIN:VEVENT
DTSTART;TZID=Europe/Madrid:20180328T180000
DTEND;TZID=Europe/Madrid:20180401T170000
DTSTAMP:20260419T190932
CREATED:20170919T165939Z
LAST-MODIFIED:20170919T165939Z
UID:234-1522260000-1522602000@movimientoapostolicogetsemani.com
SUMMARY:Pascua Misionera de Getsemaní
DESCRIPTION:Pascua Misionera de Getsemaní\, en Mocejón (Toledo).
URL:https://movimientoapostolicogetsemani.com/evento/pascua-misionera-getsemani/
ATTACH;FMTTYPE=image/jpeg:https://movimientoapostolicogetsemani.com/wp-content/uploads/2017/01/cropped-logo-getsemani2.jpg
END:VEVENT
BEGIN:VEVENT
DTSTART;TZID=Europe/Madrid:20180406T193000
DTEND;TZID=Europe/Madrid:20180406T213000
DTSTAMP:20260419T190932
CREATED:20170921T202047Z
LAST-MODIFIED:20170921T202047Z
UID:521-1523043000-1523050200@movimientoapostolicogetsemani.com
SUMMARY:Celebración del Primer Viernes de mes
DESCRIPTION:Celebración del Primer Viernes de mes en el Santuario Diocesano de los Sagrados Corazones.
URL:https://movimientoapostolicogetsemani.com/evento/celebracion-del-primer-viernes-mes-6/
LOCATION:Santuario Diocesano de los Sagrados Corazones.\, Plaza Padre Juan de Mariana\, 1\, Toledo\, Toledo\, 45002\, España
END:VEVENT
BEGIN:VEVENT
DTSTART;TZID=Europe/Madrid:20180413T193000
DTEND;TZID=Europe/Madrid:20180414T190000
DTSTAMP:20260419T190932
CREATED:20170921T202141Z
LAST-MODIFIED:20170921T202152Z
UID:523-1523647800-1523732400@movimientoapostolicogetsemani.com
SUMMARY:Retiro de Getsemaní
DESCRIPTION:Retiro de Getsemaní.
URL:https://movimientoapostolicogetsemani.com/evento/retiro-de-getsemani-7/
LOCATION:Parroquia San Julian\, Toledo\, Av. de Europa\, 10\, Toledo\, Toledo\, 45003 \, España
CATEGORIES:Retiro
END:VEVENT
BEGIN:VEVENT
DTSTART;TZID=Europe/Madrid:20180504T193000
DTEND;TZID=Europe/Madrid:20180504T213000
DTSTAMP:20260419T190932
CREATED:20170922T090539Z
LAST-MODIFIED:20170922T090539Z
UID:525-1525462200-1525469400@movimientoapostolicogetsemani.com
SUMMARY:Celebración del Primer Viernes de mes
DESCRIPTION:Celebración del Primer Viernes de mes en el Santuario Diocesano de los Sagrados Corazones.
URL:https://movimientoapostolicogetsemani.com/evento/celebracion-del-primer-viernes-mes-7/
LOCATION:Santuario Diocesano de los Sagrados Corazones.\, Plaza Padre Juan de Mariana\, 1\, Toledo\, Toledo\, 45002\, España
END:VEVENT
BEGIN:VEVENT
DTSTART;TZID=Europe/Madrid:20180511T200000
DTEND;TZID=Europe/Madrid:20180512T190000
DTSTAMP:20260419T190932
CREATED:20170922T090641Z
LAST-MODIFIED:20170922T090641Z
UID:527-1526068800-1526151600@movimientoapostolicogetsemani.com
SUMMARY:Retiro de Getsemaní
DESCRIPTION:Retiro de Getsemaní.
URL:https://movimientoapostolicogetsemani.com/evento/retiro-de-getsemani-8/
LOCATION:Parroquia San Julian\, Toledo\, Av. de Europa\, 10\, Toledo\, Toledo\, 45003 \, España
CATEGORIES:Retiro
END:VEVENT
BEGIN:VEVENT
DTSTART;TZID=Europe/Madrid:20180519T200000
DTEND;TZID=Europe/Madrid:20180519T230000
DTSTAMP:20260419T190932
CREATED:20170922T090829Z
LAST-MODIFIED:20170922T090829Z
UID:529-1526760000-1526770800@movimientoapostolicogetsemani.com
SUMMARY:Vigilia de Pentecostés
DESCRIPTION:Vigilia de Pentecostés y Jornada del Apostolado Seglar\, en Toledo.
URL:https://movimientoapostolicogetsemani.com/evento/vigilia-de-pentecostes/
END:VEVENT
BEGIN:VEVENT
DTSTART;TZID=Europe/Madrid:20180530T200000
DTEND;TZID=Europe/Madrid:20180530T230000
DTSTAMP:20260419T190932
CREATED:20170922T090931Z
LAST-MODIFIED:20170922T090932Z
UID:531-1527710400-1527721200@movimientoapostolicogetsemani.com
SUMMARY:Vigilia del Corpus Christi
DESCRIPTION:Vigilia del Corpus Christi\, organizada por el Secretariado para la Nueva Evangelización.
URL:https://movimientoapostolicogetsemani.com/evento/vigilia-del-corpus-christi/
END:VEVENT
BEGIN:VEVENT
DTSTART;TZID=Europe/Madrid:20180601T193000
DTEND;TZID=Europe/Madrid:20180601T230000
DTSTAMP:20260419T190932
CREATED:20170922T091027Z
LAST-MODIFIED:20170922T091027Z
UID:533-1527881400-1527894000@movimientoapostolicogetsemani.com
SUMMARY:Celebración del Primer Viernes
DESCRIPTION:Celebración del Primer Viernes en el Santuario de los Sagrados Corazones.
URL:https://movimientoapostolicogetsemani.com/evento/celebracion-del-primer-viernes/
LOCATION:Santuario Diocesano de los Sagrados Corazones.\, Plaza Padre Juan de Mariana\, 1\, Toledo\, Toledo\, 45002\, España
END:VEVENT
BEGIN:VEVENT
DTSTART;VALUE=DATE:20180602
DTEND;VALUE=DATE:20180603
DTSTAMP:20260419T190932
CREATED:20170922T091108Z
LAST-MODIFIED:20170922T091109Z
UID:535-1527897600-1527983999@movimientoapostolicogetsemani.com
SUMMARY:Convivencia del MEJ
DESCRIPTION:Convivencia del MEJ fin de curso.
URL:https://movimientoapostolicogetsemani.com/evento/convivencia-del-mej-2/
END:VEVENT
BEGIN:VEVENT
DTSTART;TZID=Europe/Madrid:20180608T193000
DTEND;TZID=Europe/Madrid:20180608T223000
DTSTAMP:20260419T190932
CREATED:20170922T091205Z
LAST-MODIFIED:20170922T091206Z
UID:537-1528486200-1528497000@movimientoapostolicogetsemani.com
SUMMARY:Solemnidad del Sagrado Corazón de Jesús.
DESCRIPTION:Solemnidad del Sagrado Corazón de Jesús.
URL:https://movimientoapostolicogetsemani.com/evento/solemnidad-del-sagrado-corazon-jesus/
LOCATION:Santuario Diocesano de los Sagrados Corazones.\, Plaza Padre Juan de Mariana\, 1\, Toledo\, Toledo\, 45002\, España
END:VEVENT
BEGIN:VEVENT
DTSTART;VALUE=DATE:20180609
DTEND;VALUE=DATE:20180610
DTSTAMP:20260419T190932
CREATED:20170922T091300Z
LAST-MODIFIED:20170922T091300Z
UID:539-1528502400-1528588799@movimientoapostolicogetsemani.com
SUMMARY:Jornada Diocesana de Fin de Curso
DESCRIPTION:Jornada Diocesana de Fin de Curso.
URL:https://movimientoapostolicogetsemani.com/evento/jornada-diocesana-fin-curso/
LOCATION:Parroquia San Julian\, Toledo\, Av. de Europa\, 10\, Toledo\, Toledo\, 45003 \, España
END:VEVENT
BEGIN:VEVENT
DTSTART;TZID=Europe/Madrid:20180615T193000
DTEND;TZID=Europe/Madrid:20180616T190000
DTSTAMP:20260419T190932
CREATED:20170922T091409Z
LAST-MODIFIED:20170922T091409Z
UID:541-1529091000-1529175600@movimientoapostolicogetsemani.com
SUMMARY:Retiro de Getsemaní Fin de Curso
DESCRIPTION:Retiro de Getsemaní Fin de Curso. Renovación de Compromisos.
URL:https://movimientoapostolicogetsemani.com/evento/retiro-getsemani-fin-curso/
LOCATION:Parroquia San juan de la Cruz Toledo\,  Calle Reino Unido\, 12\, TOLEDO\, Toledo\, 45005\, España
CATEGORIES:Retiro
END:VEVENT
BEGIN:VEVENT
DTSTART;TZID=Europe/Madrid:20180624T080000
DTEND;TZID=Europe/Madrid:20180624T170000
DTSTAMP:20260419T190932
CREATED:20170922T091453Z
LAST-MODIFIED:20170922T091453Z
UID:543-1529827200-1529859600@movimientoapostolicogetsemani.com
SUMMARY:Acto Diocesano de envío a los campamentos.
DESCRIPTION:Acto Diocesano de envío a los campamentos.
URL:https://movimientoapostolicogetsemani.com/evento/acto-diocesano-envio-los-campamentos/
END:VEVENT
BEGIN:VEVENT
DTSTART;TZID=Europe/Madrid:20180723T080000
DTEND;TZID=Europe/Madrid:20180730T170000
DTSTAMP:20260419T190932
CREATED:20170922T091620Z
LAST-MODIFIED:20170922T091620Z
UID:545-1532332800-1532970000@movimientoapostolicogetsemani.com
SUMMARY:Campamento de Jóvenes de Getsemaní
DESCRIPTION:Campamento de Jóvenes de Getsemaní en Viver (Castellón)
URL:https://movimientoapostolicogetsemani.com/evento/campamento-jovenes-getsemani/
END:VEVENT
BEGIN:VEVENT
DTSTART;VALUE=DATE:20180806
DTEND;VALUE=DATE:20180814
DTSTAMP:20260419T190932
CREATED:20170922T091719Z
LAST-MODIFIED:20170922T091719Z
UID:547-1533513600-1534204799@movimientoapostolicogetsemani.com
SUMMARY:Campamento del MEJ
DESCRIPTION:Campamento del MEJ en Casas de Juan Nuñez (Albacete)
URL:https://movimientoapostolicogetsemani.com/evento/campamento-del-mej/
END:VEVENT
BEGIN:VEVENT
DTSTART;VALUE=DATE:20180808
DTEND;VALUE=DATE:20180813
DTSTAMP:20260419T190932
CREATED:20170922T091818Z
LAST-MODIFIED:20170922T091818Z
UID:549-1533686400-1534118399@movimientoapostolicogetsemani.com
SUMMARY:Campamento de familias y adultos
DESCRIPTION:Campamento de familias y adultos en Bejar (Salamanca)
URL:https://movimientoapostolicogetsemani.com/evento/campamento-familias-adultos/
END:VEVENT
BEGIN:VEVENT
DTSTART;VALUE=DATE:20180822
DTEND;VALUE=DATE:20180827
DTSTAMP:20260419T190932
CREATED:20170922T091857Z
LAST-MODIFIED:20170922T091857Z
UID:551-1534896000-1535327999@movimientoapostolicogetsemani.com
SUMMARY:Encuentro Mundial de Familias
DESCRIPTION:Participación de Getsemaní en el Encuentro Mundial de Familias\, en Dublín (Irlanda).
URL:https://movimientoapostolicogetsemani.com/evento/encuentro-mundial-familias/
END:VEVENT
BEGIN:VEVENT
DTSTART;TZID=Europe/Madrid:20180928T080000
DTEND;TZID=Europe/Madrid:20180930T170000
DTSTAMP:20260419T190932
CREATED:20180919T161951Z
LAST-MODIFIED:20180919T161951Z
UID:13264-1538121600-1538326800@movimientoapostolicogetsemani.com
SUMMARY:Encuentro de Familias por el Reino de Cristo (FRC)
DESCRIPTION:Encuentro de Familias por el Reino de Cristo (FRC) en Guadarrama (Madrid).
URL:https://movimientoapostolicogetsemani.com/evento/encuentro-familias-reino-cristo-frc/
END:VEVENT
BEGIN:VEVENT
DTSTART;TZID=Europe/Madrid:20181005T080000
DTEND;TZID=Europe/Madrid:20181006T170000
DTSTAMP:20260419T190932
CREATED:20180919T162118Z
LAST-MODIFIED:20180919T162334Z
UID:13266-1538726400-1538845200@movimientoapostolicogetsemani.com
SUMMARY:Retiro Octubre
DESCRIPTION:Retiro de Inicio de Curso de Getsemaní. (Primer Viernes de mes)
URL:https://movimientoapostolicogetsemani.com/evento/retiro-octubre-2/
CATEGORIES:Retiro
ATTACH;FMTTYPE=image/jpeg:https://movimientoapostolicogetsemani.com/wp-content/uploads/2018/05/retiro.jpeg
END:VEVENT
BEGIN:VEVENT
DTSTART;TZID=Europe/Madrid:20181011T080000
DTEND;TZID=Europe/Madrid:20181014T170000
DTSTAMP:20260419T190932
CREATED:20180919T162251Z
LAST-MODIFIED:20180919T162251Z
UID:13268-1539244800-1539536400@movimientoapostolicogetsemani.com
SUMMARY:Peregrinación Diocesana de jóvenes a Guadalupe
DESCRIPTION:Peregrinación Diocesana de jóvenes a Guadalupe\, organizada por el SEPAJU.
URL:https://movimientoapostolicogetsemani.com/evento/peregrinacion-diocesana-jovenes-guadalupe-2/
END:VEVENT
BEGIN:VEVENT
DTSTART;VALUE=DATE:20181013
DTEND;VALUE=DATE:20181014
DTSTAMP:20260419T190932
CREATED:20180919T162506Z
LAST-MODIFIED:20180919T162506Z
UID:13270-1539388800-1539475199@movimientoapostolicogetsemani.com
SUMMARY:Inicio de las reuniones de Getsemaní
DESCRIPTION:Inicio de las reuniones de Getsemaní de MEJ\, Jóvenes\, Familias y Adultos.
URL:https://movimientoapostolicogetsemani.com/evento/inicio-las-reuniones-getsemani-2/
ATTACH;FMTTYPE=image/jpeg:https://movimientoapostolicogetsemani.com/wp-content/uploads/2018/03/formacion-permanente.jpg
END:VEVENT
BEGIN:VEVENT
DTSTART;VALUE=DATE:20181021
DTEND;VALUE=DATE:20181022
DTSTAMP:20260419T190932
CREATED:20180919T162606Z
LAST-MODIFIED:20180919T162606Z
UID:13272-1540080000-1540166399@movimientoapostolicogetsemani.com
SUMMARY:Jornada Diocesana del Apostolado de la Oración.
DESCRIPTION:Jornada Diocesana del Apostolado de la Oración.
URL:https://movimientoapostolicogetsemani.com/evento/jornada-diocesana-del-apostolado-la-oracion-2/
END:VEVENT
BEGIN:VEVENT
DTSTART;TZID=Europe/Madrid:20181102T193000
DTEND;TZID=Europe/Madrid:20181102T220000
DTSTAMP:20260419T190932
CREATED:20180919T162743Z
LAST-MODIFIED:20180919T162743Z
UID:13274-1541187000-1541196000@movimientoapostolicogetsemani.com
SUMMARY:Celebración del Primer Viernes de mes
DESCRIPTION:Celebración del Primer Viernes de mes en el Santuario Diocesano de los Sagrados Corazones
URL:https://movimientoapostolicogetsemani.com/evento/celebracion-del-primer-viernes-mes-8/
LOCATION:Santuario Diocesano de los Sagrados Corazones.\, Plaza Padre Juan de Mariana\, 1\, Toledo\, Toledo\, 45002\, España
END:VEVENT
BEGIN:VEVENT
DTSTART;TZID=Europe/Madrid:20181109T200000
DTEND;TZID=Europe/Madrid:20181110T170000
DTSTAMP:20260419T190932
CREATED:20180919T162850Z
LAST-MODIFIED:20180919T162850Z
UID:13276-1541793600-1541869200@movimientoapostolicogetsemani.com
SUMMARY:Retiro de Getsemaní.
DESCRIPTION:Retiro de Getsemaní.
URL:https://movimientoapostolicogetsemani.com/evento/retiro-de-getsemani-4/
CATEGORIES:Retiro
ATTACH;FMTTYPE=image/jpeg:https://movimientoapostolicogetsemani.com/wp-content/uploads/2018/05/retiro.jpeg
END:VEVENT
BEGIN:VEVENT
DTSTART;TZID=Europe/Madrid:20181207T193000
DTEND;TZID=Europe/Madrid:20181207T220000
DTSTAMP:20260419T190932
CREATED:20180925T142748Z
LAST-MODIFIED:20180925T142748Z
UID:13308-1544211000-1544220000@movimientoapostolicogetsemani.com
SUMMARY:Primer viernes
DESCRIPTION:Celebración del Primer Viernes de mes en el Santuario Diocesano de los Sagrados Corazones.
URL:https://movimientoapostolicogetsemani.com/evento/primer-viernes/
LOCATION:Santuario Diocesano de los Sagrados Corazones.\, Plaza Padre Juan de Mariana\, 1\, Toledo\, Toledo\, 45002\, España
END:VEVENT
BEGIN:VEVENT
DTSTART;TZID=Europe/Madrid:20181221T203000
DTEND;TZID=Europe/Madrid:20181222T180000
DTSTAMP:20260419T190932
CREATED:20180925T142928Z
LAST-MODIFIED:20181122T165147Z
UID:13310-1545424200-1545501600@movimientoapostolicogetsemani.com
SUMMARY:Retiro
DESCRIPTION:Retiro de Getsemaní de Navidad. Festival Navideño. \nEn la parroquia de Santa Teresa\, Toledo
URL:https://movimientoapostolicogetsemani.com/evento/retiro/
LOCATION:Parroquia Santa Teresa\, Ronda Buenavista\, 51\, Toledo\, Toledo\, 45005
CATEGORIES:Retiro
ATTACH;FMTTYPE=image/jpeg:https://movimientoapostolicogetsemani.com/wp-content/uploads/2018/05/retiro.jpeg
END:VEVENT
BEGIN:VEVENT
DTSTART;TZID=Europe/Madrid:20181227T103000
DTEND;TZID=Europe/Madrid:20181230T180000
DTSTAMP:20260419T190932
CREATED:20180925T143336Z
LAST-MODIFIED:20180925T143336Z
UID:13312-1545906600-1546192800@movimientoapostolicogetsemani.com
SUMMARY:Ejercicios espirituales
DESCRIPTION:Ejercicios espirituales para Jóvenes\, en el Seminario de Mora (Toledo).
URL:https://movimientoapostolicogetsemani.com/evento/ejercicios-espirituales/
LOCATION:Seminario de mora\,  Calle Sta. Lucía\, 4\, Mora\, \, Toledo\,  45400 \, España
ATTACH;FMTTYPE=image/jpeg:https://movimientoapostolicogetsemani.com/wp-content/uploads/2018/05/CAPILLA-6.jpg
END:VEVENT
END:VCALENDAR